BEGIN:VCALENDAR
VERSION:2.0
PRODID:-//Sandown Historical Society &amp; Museum - ECPv6.15.20//NONSGML v1.0//EN
CALSCALE:GREGORIAN
METHOD:PUBLISH
X-ORIGINAL-URL:https://sandownnhdepot.org
X-WR-CALDESC:Events for Sandown Historical Society &amp; Museum
REFRESH-INTERVAL;VALUE=DURATION:PT1H
X-Robots-Tag:noindex
X-PUBLISHED-TTL:PT1H
BEGIN:VTIMEZONE
TZID:America/New_York
BEGIN:DAYLIGHT
TZOFFSETFROM:-0500
TZOFFSETTO:-0400
TZNAME:EDT
DTSTART:20170312T070000
END:DAYLIGHT
BEGIN:STANDARD
TZOFFSETFROM:-0400
TZOFFSETTO:-0500
TZNAME:EST
DTSTART:20171105T060000
END:STANDARD
BEGIN:DAYLIGHT
TZOFFSETFROM:-0500
TZOFFSETTO:-0400
TZNAME:EDT
DTSTART:20180311T070000
END:DAYLIGHT
BEGIN:STANDARD
TZOFFSETFROM:-0400
TZOFFSETTO:-0500
TZNAME:EST
DTSTART:20181104T060000
END:STANDARD
BEGIN:DAYLIGHT
TZOFFSETFROM:-0500
TZOFFSETTO:-0400
TZNAME:EDT
DTSTART:20190310T070000
END:DAYLIGHT
BEGIN:STANDARD
TZOFFSETFROM:-0400
TZOFFSETTO:-0500
TZNAME:EST
DTSTART:20191103T060000
END:STANDARD
END:VTIMEZONE
BEGIN:VEVENT
DTSTART;TZID=America/New_York:20180907T190000
DTEND;TZID=America/New_York:20180907T230000
DTSTAMP:20260425T183935
CREATED:20240316T061118Z
LAST-MODIFIED:20240318T060917Z
UID:217-1536346800-1536361200@sandownnhdepot.org
SUMMARY:Sandown Old Home Day Fall Festival Celebration
DESCRIPTION:During Friday evening’s activities\, the Sandown Historical Society will be sponsoring the beer tent. All purchases support the Historical Society.
URL:https://sandownnhdepot.org/event/sandown-old-home-day-fall-festival-celebration-7/
LOCATION:Edward C. Garvey Recreation Building\, 25 Pheasant Run Drive\, Sandown\, NH\, United States
CATEGORIES:Community Event,Fundraiser,Old Home Day
END:VEVENT
END:VCALENDAR