BEGIN:VCALENDAR
VERSION:2.0
PRODID:-//Sandown Historical Society &amp; Museum - ECPv6.15.20//NONSGML v1.0//EN
CALSCALE:GREGORIAN
METHOD:PUBLISH
X-ORIGINAL-URL:https://sandownnhdepot.org
X-WR-CALDESC:Events for Sandown Historical Society &amp; Museum
REFRESH-INTERVAL;VALUE=DURATION:PT1H
X-Robots-Tag:noindex
X-PUBLISHED-TTL:PT1H
BEGIN:VTIMEZONE
TZID:America/New_York
BEGIN:DAYLIGHT
TZOFFSETFROM:-0500
TZOFFSETTO:-0400
TZNAME:EDT
DTSTART:20180311T070000
END:DAYLIGHT
BEGIN:STANDARD
TZOFFSETFROM:-0400
TZOFFSETTO:-0500
TZNAME:EST
DTSTART:20181104T060000
END:STANDARD
BEGIN:DAYLIGHT
TZOFFSETFROM:-0500
TZOFFSETTO:-0400
TZNAME:EDT
DTSTART:20190310T070000
END:DAYLIGHT
BEGIN:STANDARD
TZOFFSETFROM:-0400
TZOFFSETTO:-0500
TZNAME:EST
DTSTART:20191103T060000
END:STANDARD
BEGIN:DAYLIGHT
TZOFFSETFROM:-0500
TZOFFSETTO:-0400
TZNAME:EDT
DTSTART:20200308T070000
END:DAYLIGHT
BEGIN:STANDARD
TZOFFSETFROM:-0400
TZOFFSETTO:-0500
TZNAME:EST
DTSTART:20201101T060000
END:STANDARD
END:VTIMEZONE
BEGIN:VEVENT
DTSTART;TZID=America/New_York:20190316T123000
DTEND;TZID=America/New_York:20190316T123000
DTSTAMP:20260424T221125
CREATED:20240317T193027Z
LAST-MODIFIED:20240318T063007Z
UID:232-1552739400-1552739400@sandownnhdepot.org
SUMMARY:Business Meeting
DESCRIPTION:Our monthly business meeting for the Sandown Historical Society & Museum. We’re heading to Maine for this meeting\, offering a convenient location for our northern members at the Saco Transportation Center. Join us for a late lunch afterwards at the Run of the Mill Pub at 100 Main Street\, Saco\, ME.
URL:https://sandownnhdepot.org/event/business-meeting-6/
LOCATION:Saco Transportation Center\, 138 Main Street\, Saco\, ME\, United States
CATEGORIES:Business Meeting
END:VEVENT
END:VCALENDAR