BEGIN:VCALENDAR
VERSION:2.0
PRODID:-//Sandown Historical Society &amp; Museum - ECPv6.15.20//NONSGML v1.0//EN
CALSCALE:GREGORIAN
METHOD:PUBLISH
X-ORIGINAL-URL:https://sandownnhdepot.org
X-WR-CALDESC:Events for Sandown Historical Society &amp; Museum
REFRESH-INTERVAL;VALUE=DURATION:PT1H
X-Robots-Tag:noindex
X-PUBLISHED-TTL:PT1H
BEGIN:VTIMEZONE
TZID:America/New_York
BEGIN:DAYLIGHT
TZOFFSETFROM:-0500
TZOFFSETTO:-0400
TZNAME:EDT
DTSTART:20180311T070000
END:DAYLIGHT
BEGIN:STANDARD
TZOFFSETFROM:-0400
TZOFFSETTO:-0500
TZNAME:EST
DTSTART:20181104T060000
END:STANDARD
BEGIN:DAYLIGHT
TZOFFSETFROM:-0500
TZOFFSETTO:-0400
TZNAME:EDT
DTSTART:20190310T070000
END:DAYLIGHT
BEGIN:STANDARD
TZOFFSETFROM:-0400
TZOFFSETTO:-0500
TZNAME:EST
DTSTART:20191103T060000
END:STANDARD
BEGIN:DAYLIGHT
TZOFFSETFROM:-0500
TZOFFSETTO:-0400
TZNAME:EDT
DTSTART:20200308T070000
END:DAYLIGHT
BEGIN:STANDARD
TZOFFSETFROM:-0400
TZOFFSETTO:-0500
TZNAME:EST
DTSTART:20201101T060000
END:STANDARD
END:VTIMEZONE
BEGIN:VEVENT
DTSTART;TZID=America/New_York:20190907T100000
DTEND;TZID=America/New_York:20190907T160000
DTSTAMP:20260424T075608
CREATED:20240317T193053Z
LAST-MODIFIED:20240318T062125Z
UID:236-1567850400-1567872000@sandownnhdepot.org
SUMMARY:Glory Days Festival
DESCRIPTION:Hosted by the Hartford Area Chamber of Commerce – The Glory Days Festival celebrates its 27th year as a family oriented\, fun-filled\, festival of the railroading and transportation modes of the past\, present & future. Free Admission. Festival includes 45-minute excursion rides ($)\, model railroad show\, Mini-Steam Engine\, Touch-a-Truck\, Fall Harvest Craft Fair\, Food Vendors\, Children’s Games ($)\, and more.
URL:https://sandownnhdepot.org/event/glory-days-festival/
LOCATION:White River Junction\, Vermont\, Downtown\, White River Junction\, VT\, United States
CATEGORIES:Community Event,Railroad Event
END:VEVENT
END:VCALENDAR