BEGIN:VCALENDAR
VERSION:2.0
PRODID:-//Sandown Historical Society &amp; Museum - ECPv6.15.20//NONSGML v1.0//EN
CALSCALE:GREGORIAN
METHOD:PUBLISH
X-WR-CALNAME:Sandown Historical Society &amp; Museum
X-ORIGINAL-URL:https://sandownnhdepot.org
X-WR-CALDESC:Events for Sandown Historical Society &amp; Museum
REFRESH-INTERVAL;VALUE=DURATION:PT1H
X-Robots-Tag:noindex
X-PUBLISHED-TTL:PT1H
BEGIN:VTIMEZONE
TZID:America/New_York
BEGIN:DAYLIGHT
TZOFFSETFROM:-0500
TZOFFSETTO:-0400
TZNAME:EDT
DTSTART:20190310T070000
END:DAYLIGHT
BEGIN:STANDARD
TZOFFSETFROM:-0400
TZOFFSETTO:-0500
TZNAME:EST
DTSTART:20191103T060000
END:STANDARD
BEGIN:DAYLIGHT
TZOFFSETFROM:-0500
TZOFFSETTO:-0400
TZNAME:EDT
DTSTART:20200308T070000
END:DAYLIGHT
BEGIN:STANDARD
TZOFFSETFROM:-0400
TZOFFSETTO:-0500
TZNAME:EST
DTSTART:20201101T060000
END:STANDARD
BEGIN:DAYLIGHT
TZOFFSETFROM:-0500
TZOFFSETTO:-0400
TZNAME:EDT
DTSTART:20210314T070000
END:DAYLIGHT
BEGIN:STANDARD
TZOFFSETFROM:-0400
TZOFFSETTO:-0500
TZNAME:EST
DTSTART:20211107T060000
END:STANDARD
END:VTIMEZONE
BEGIN:VEVENT
DTSTART;TZID=America/New_York:20200201T103000
DTEND;TZID=America/New_York:20200201T103000
DTSTAMP:20260423T120837
CREATED:20240317T193308Z
LAST-MODIFIED:20240318T055222Z
UID:243-1580553000-1580553000@sandownnhdepot.org
SUMMARY:Business Meeting
DESCRIPTION:Our monthly business meeting for the Sandown Historical Society & Museum.
URL:https://sandownnhdepot.org/event/business-meeting-9/
LOCATION:Sandown Historical Society & Museum\, 6 Depot Road\, Sandown\, NH\, 03873\, United States
CATEGORIES:Business Meeting
END:VEVENT
BEGIN:VEVENT
DTSTART;TZID=America/New_York:20200229T113000
DTEND;TZID=America/New_York:20200229T113000
DTSTAMP:20260423T120837
CREATED:20240317T193445Z
LAST-MODIFIED:20240318T055237Z
UID:244-1582975800-1582975800@sandownnhdepot.org
SUMMARY:Business Meeting
DESCRIPTION:Our monthly business meeting for the Sandown Historical Society & Museum. We’re heading to Maine for this meeting\, offering a convenient location for our northern members at the Saco Transportation Center.
URL:https://sandownnhdepot.org/event/business-meeting-10/
LOCATION:Saco Transportation Center\, 138 Main Street\, Saco\, ME\, United States
CATEGORIES:Business Meeting
END:VEVENT
END:VCALENDAR