BEGIN:VCALENDAR
VERSION:2.0
PRODID:-//Sandown Historical Society &amp; Museum - ECPv6.15.20//NONSGML v1.0//EN
CALSCALE:GREGORIAN
METHOD:PUBLISH
X-WR-CALNAME:Sandown Historical Society &amp; Museum
X-ORIGINAL-URL:https://sandownnhdepot.org
X-WR-CALDESC:Events for Sandown Historical Society &amp; Museum
REFRESH-INTERVAL;VALUE=DURATION:PT1H
X-Robots-Tag:noindex
X-PUBLISHED-TTL:PT1H
BEGIN:VTIMEZONE
TZID:America/New_York
BEGIN:DAYLIGHT
TZOFFSETFROM:-0500
TZOFFSETTO:-0400
TZNAME:EDT
DTSTART:20200308T070000
END:DAYLIGHT
BEGIN:STANDARD
TZOFFSETFROM:-0400
TZOFFSETTO:-0500
TZNAME:EST
DTSTART:20201101T060000
END:STANDARD
BEGIN:DAYLIGHT
TZOFFSETFROM:-0500
TZOFFSETTO:-0400
TZNAME:EDT
DTSTART:20210314T070000
END:DAYLIGHT
BEGIN:STANDARD
TZOFFSETFROM:-0400
TZOFFSETTO:-0500
TZNAME:EST
DTSTART:20211107T060000
END:STANDARD
BEGIN:DAYLIGHT
TZOFFSETFROM:-0500
TZOFFSETTO:-0400
TZNAME:EDT
DTSTART:20220313T070000
END:DAYLIGHT
BEGIN:STANDARD
TZOFFSETFROM:-0400
TZOFFSETTO:-0500
TZNAME:EST
DTSTART:20221106T060000
END:STANDARD
END:VTIMEZONE
BEGIN:VEVENT
DTSTART;TZID=America/New_York:20210610T183000
DTEND;TZID=America/New_York:20210610T200000
DTSTAMP:20260422T034924
CREATED:20240317T193700Z
LAST-MODIFIED:20240318T055405Z
UID:253-1623349800-1623355200@sandownnhdepot.org
SUMMARY:Business Meeting
DESCRIPTION:Our monthly business meeting for the Sandown Historical Society & Museum. Join us every second Thursday of the month at 6:30 PM.
URL:https://sandownnhdepot.org/event/business-meeting-16/
LOCATION:Sandown Town Hall\, 320 Main Street\, Sandown\, NH\, United States
CATEGORIES:Business Meeting
END:VEVENT
BEGIN:VEVENT
DTSTART;TZID=America/New_York:20210612T080000
DTEND;TZID=America/New_York:20210612T120000
DTSTAMP:20260422T034924
CREATED:20240317T193742Z
LAST-MODIFIED:20240318T062440Z
UID:254-1623484800-1623499200@sandownnhdepot.org
SUMMARY:Depot Clean-up
DESCRIPTION:Calling our friends and members to help spruce up our Old Depot for the 2021 season! We’d love to see you there.
URL:https://sandownnhdepot.org/event/depot-clean-up/
LOCATION:Sandown Historical Society & Museum\, 6 Depot Road\, Sandown\, NH\, 03873\, United States
CATEGORIES:Volunteer Event
END:VEVENT
END:VCALENDAR